BEGIN:VCALENDAR
VERSION:2.0
PRODID:-//ChamberMaster//Event Calendar 2.0//EN
METHOD:PUBLISH
X-PUBLISHED-TTL:P3D
REFRESH-INTERVAL:P3D
CALSCALE:GREGORIAN
BEGIN:VEVENT
DTSTART:20210818T190000Z
DTEND:20210818T200000Z
X-MICROSOFT-CDO-ALLDAYEVENT:FALSE
SUMMARY:Business Networking Group
DESCRIPTION:Our Business Networking Group occurs on the 3rd Wednesday of each month at Noon. This is a great opportunity to get to know other business and help expand your own business. All attendees will have an opportunity to share information about their business and also hear about what other local businesses are doing.
X-ALT-DESC;FMTTYPE=text/html:<span style="font-family: Calibri\, sans-serif\; font-size: 14px\; caret-color: rgb(0\, 0\, 0)\; background-color: rgb(255\, 255\, 255)\;">Our Business Networking Group occurs on the 3rd Wednesday of each month at Noon. This is a great opportunity to get to know other business and help expand your own business. All attendees will have an opportunity to share information about their business and also hear about what other local businesses are doing.</span><br />\n&nbsp\;
LOCATION:Colleary's Bistro & Spirits 2143 N Tustin St\, Orange\, CA 92865
UID:e.121.10012
SEQUENCE:3
DTSTAMP:20260424T173324Z
URL:http://orangechamber.chambermaster.com/events/details/business-networking-group-10012
END:VEVENT

END:VCALENDAR
