BEGIN:VCALENDAR
VERSION:2.0
PRODID:-//ChamberMaster//Event Calendar 2.0//EN
METHOD:PUBLISH
X-PUBLISHED-TTL:P3D
REFRESH-INTERVAL:P3D
CALSCALE:GREGORIAN
BEGIN:VEVENT
DTSTART:20241213T010000Z
DTEND:20241213T030000Z
X-MICROSOFT-CDO-ALLDAYEVENT:FALSE
SUMMARY:Networking Bingo
DESCRIPTION:Get ready for Bingo Networking where making connections is a game! Meet fellow attendees\, discover fun and unique facts about each other\, and mark off your bingo card of interesting tidbits. It' s a lively way to build relationships while competing for bingo wins. Networking has never been this fun! This event is presented by Maria Media of The Coaching Network.
X-ALT-DESC;FMTTYPE=text/html:Get ready for Bingo Networking&mdash\;where making connections is a game! Meet fellow attendees\, discover fun and unique facts about each other\, and mark off your bingo card of interesting tidbits. It&#39\; s a lively way to build relationships while competing for bingo wins. Networking has never been this fun! This event is presented by Maria Media of The Coaching Network.&nbsp\;
LOCATION:Chic Party Rentals 1403 N Batavia St\, Suite 115\, Orange 92867
UID:e.121.11164
SEQUENCE:3
DTSTAMP:20260425T190404Z
URL:http://orangechamber.chambermaster.com/events/details/networking-bingo-11164
END:VEVENT

END:VCALENDAR
